BEGIN:VCALENDAR
VERSION:2.0
PRODID:-//NADI Sungai Melekun - ECPv6.15.13.1//NONSGML v1.0//EN
CALSCALE:GREGORIAN
METHOD:PUBLISH
X-WR-CALNAME:NADI Sungai Melekun
X-ORIGINAL-URL:https://sgmelekun.nadi.my
X-WR-CALDESC:Events for NADI Sungai Melekun
REFRESH-INTERVAL;VALUE=DURATION:PT1H
X-Robots-Tag:noindex
X-PUBLISHED-TTL:PT1H
BEGIN:VTIMEZONE
TZID:UTC
BEGIN:STANDARD
TZOFFSETFROM:+0000
TZOFFSETTO:+0000
TZNAME:UTC
DTSTART:20240101T000000
END:STANDARD
END:VTIMEZONE
BEGIN:VEVENT
DTSTART;TZID=UTC:20250101T080000
DTEND;TZID=UTC:20250630T170000
DTSTAMP:20260419T173520
CREATED:20250301T024353Z
LAST-MODIFIED:20250301T024353Z
UID:785-1735718400-1751302800@sgmelekun.nadi.my
SUMMARY:Pembelajaran Sepanjang Hayat
DESCRIPTION:Mahir Masak\nMahir Jahit\nMahir Baiki Gajet\nMahir Foto\nMahir Pertanian Pintar
URL:https://sgmelekun.nadi.my/event/pembelajaran-sepanjang-hayat/
END:VEVENT
BEGIN:VEVENT
DTSTART;VALUE=DATE:20250412
DTEND;VALUE=DATE:20250427
DTSTAMP:20260419T173520
CREATED:20250404T014910Z
LAST-MODIFIED:20250404T014914Z
UID:830-1744416000-1745711999@sgmelekun.nadi.my
SUMMARY:Kelas Kesedaran dan Pensijilan E-Sukan
DESCRIPTION:
URL:https://sgmelekun.nadi.my/event/kelas-kesedaran-dan-pensijilan-e-sukan/
END:VEVENT
BEGIN:VEVENT
DTSTART;VALUE=DATE:20250422
DTEND;VALUE=DATE:20250501
DTSTAMP:20260419T173520
CREATED:20250404T015037Z
LAST-MODIFIED:20250404T015119Z
UID:832-1745280000-1746057599@sgmelekun.nadi.my
SUMMARY:Mononton PODCAST / Webinar di Youtube
DESCRIPTION:
URL:https://sgmelekun.nadi.my/event/832/
END:VEVENT
END:VCALENDAR