BEGIN:VCALENDAR
VERSION:2.0
PRODID:-//NADI Sungai Melekun - ECPv6.15.13.1//NONSGML v1.0//EN
CALSCALE:GREGORIAN
METHOD:PUBLISH
X-WR-CALNAME:NADI Sungai Melekun
X-ORIGINAL-URL:https://sgmelekun.nadi.my
X-WR-CALDESC:Events for NADI Sungai Melekun
REFRESH-INTERVAL;VALUE=DURATION:PT1H
X-Robots-Tag:noindex
X-PUBLISHED-TTL:PT1H
BEGIN:VTIMEZONE
TZID:UTC
BEGIN:STANDARD
TZOFFSETFROM:+0000
TZOFFSETTO:+0000
TZNAME:UTC
DTSTART:20240101T000000
END:STANDARD
END:VTIMEZONE
BEGIN:VEVENT
DTSTART;TZID=UTC:20250101T080000
DTEND;TZID=UTC:20250630T170000
DTSTAMP:20260421T051054
CREATED:20250301T024353Z
LAST-MODIFIED:20250301T024353Z
UID:785-1735718400-1751302800@sgmelekun.nadi.my
SUMMARY:Pembelajaran Sepanjang Hayat
DESCRIPTION:Mahir Masak\nMahir Jahit\nMahir Baiki Gajet\nMahir Foto\nMahir Pertanian Pintar
URL:https://sgmelekun.nadi.my/event/pembelajaran-sepanjang-hayat/
END:VEVENT
BEGIN:VEVENT
DTSTART;TZID=UTC:20250301T080000
DTEND;TZID=UTC:20250331T170000
DTSTAMP:20260421T051054
CREATED:20250301T024631Z
LAST-MODIFIED:20250301T024631Z
UID:787-1740816000-1743440400@sgmelekun.nadi.my
SUMMARY:Webinar & Google Meet
DESCRIPTION:Cyber Security\nNADI Safe & Shield\nNADI Wellbeing
URL:https://sgmelekun.nadi.my/event/webinar-google-meet/
END:VEVENT
BEGIN:VEVENT
DTSTART;TZID=UTC:20250308T090000
DTEND;TZID=UTC:20250308T120000
DTSTAMP:20260421T051054
CREATED:20250301T024819Z
LAST-MODIFIED:20250301T024819Z
UID:789-1741424400-1741435200@sgmelekun.nadi.my
SUMMARY:Pertandingan E-Sukan Mobile Lagend Bang-Bang
DESCRIPTION:Saringan pada peringkat NADI
URL:https://sgmelekun.nadi.my/event/pertandingan-e-sukan-mobile-lagend-bang-bang/
END:VEVENT
END:VCALENDAR